BEGIN:VCALENDAR
VERSION:2.0
PRODID:-//13th Wimbledon Scout Group - ECPv6.15.20//NONSGML v1.0//EN
CALSCALE:GREGORIAN
METHOD:PUBLISH
X-ORIGINAL-URL:https://13thwimbledon.org
X-WR-CALDESC:Events for 13th Wimbledon Scout Group
REFRESH-INTERVAL;VALUE=DURATION:PT1H
X-Robots-Tag:noindex
X-PUBLISHED-TTL:PT1H
BEGIN:VTIMEZONE
TZID:UTC
BEGIN:STANDARD
TZOFFSETFROM:+0000
TZOFFSETTO:+0000
TZNAME:UTC
DTSTART:20210101T000000
END:STANDARD
END:VTIMEZONE
BEGIN:VEVENT
DTSTART;TZID=UTC:20250615T140000
DTEND;TZID=UTC:20250615T160000
DTSTAMP:20260421T101917
CREATED:20240106T190319Z
LAST-MODIFIED:20250201T141255Z
UID:1372-1749996000-1750003200@13thwimbledon.org
SUMMARY:Group Family BBQ & AGM
DESCRIPTION:Beavers\, Cubs\, Scouts & Explorers
URL:https://13thwimbledon.org/event/group-camp-2-copy/
LOCATION:Walton Firs\, Walton Firs Activity Centre\, Convent Lane\, Cobham\, Surrey\, KT11 1HB
CATEGORIES:Beavers,Cubs,Explorers,Scouts
END:VEVENT
BEGIN:VEVENT
DTSTART;TZID=UTC:20250613T190000
DTEND;TZID=UTC:20250615T200000
DTSTAMP:20260421T101917
CREATED:20231014T170258Z
LAST-MODIFIED:20250201T141423Z
UID:1334-1749841200-1750017600@13thwimbledon.org
SUMMARY:Group camp
DESCRIPTION:Beavers\, Cubs and Scouts
URL:https://13thwimbledon.org/event/group-camp-2/
LOCATION:Walton Firs\, Walton Firs Activity Centre\, Convent Lane\, Cobham\, Surrey\, KT11 1HB
CATEGORIES:Beavers,Cubs,Scouts
END:VEVENT
BEGIN:VEVENT
DTSTART;TZID=UTC:20250503T100000
DTEND;TZID=UTC:20250503T170000
DTSTAMP:20260421T101917
CREATED:20240106T190146Z
LAST-MODIFIED:20250201T141143Z
UID:1370-1746266400-1746291600@13thwimbledon.org
SUMMARY:Scouts & Cubs: District Sports
DESCRIPTION:Scouts\, Cubs & Beavers
URL:https://13thwimbledon.org/event/district-sports-2024/
LOCATION:David Weir Centre\, Middleton Rd\, Carshalton\, SM5 1SL
CATEGORIES:Beavers,Cubs,Scouts
END:VEVENT
BEGIN:VEVENT
DTSTART;TZID=UTC:20250126T020000
DTEND;TZID=UTC:20250126T040000
DTSTAMP:20260421T101917
CREATED:20231014T171134Z
LAST-MODIFIED:20241124T170124Z
UID:1340-1737856800-1737864000@13thwimbledon.org
SUMMARY:Cubs: Chess competition
DESCRIPTION:Cubs
URL:https://13thwimbledon.org/event/cubs-march-chess-competition/
LOCATION:19th Wimbledon Scout Hut
CATEGORIES:Cubs
END:VEVENT
BEGIN:VEVENT
DTSTART;TZID=UTC:20240707T080000
DTEND;TZID=UTC:20240707T170000
DTSTAMP:20260421T101917
CREATED:20231014T171324Z
LAST-MODIFIED:20240106T185236Z
UID:1344-1720339200-1720371600@13thwimbledon.org
SUMMARY:Cubs Football competition
DESCRIPTION:Cubs
URL:https://13thwimbledon.org/event/cubs-football-competition/
LOCATION:Surrey
CATEGORIES:Cubs
END:VEVENT
BEGIN:VEVENT
DTSTART;TZID=UTC:20240128T080000
DTEND;TZID=UTC:20240128T170000
DTSTAMP:20260421T101917
CREATED:20231014T171104Z
LAST-MODIFIED:20240106T184051Z
UID:1338-1706428800-1706461200@13thwimbledon.org
SUMMARY:Cub Badge day
DESCRIPTION:Cubs
URL:https://13thwimbledon.org/event/cub-badge-day/
LOCATION:19th Wimbledon Scout Hut
CATEGORIES:Cubs
END:VEVENT
BEGIN:VEVENT
DTSTART;TZID=UTC:20230709T080000
DTEND;TZID=UTC:20230709T170000
DTSTAMP:20260421T101917
CREATED:20230226T191912Z
LAST-MODIFIED:20230422T194001Z
UID:1169-1688889600-1688922000@13thwimbledon.org
SUMMARY:Football competition
DESCRIPTION:Cubs
URL:https://13thwimbledon.org/event/football-competition-2/
LOCATION:St John Fisher School\, Grand Drive\, London\, SW20 9NA
CATEGORIES:Cubs
END:VEVENT
BEGIN:VEVENT
DTSTART;TZID=UTC:20230616T180000
DTEND;TZID=UTC:20230618T160000
DTSTAMP:20260421T101917
CREATED:20230219T203547Z
LAST-MODIFIED:20230422T193808Z
UID:1141-1686938400-1687104000@13thwimbledon.org
SUMMARY:Group camp
DESCRIPTION:Beavers\, Cubs\, Scouts
URL:https://13thwimbledon.org/event/group-camp/
LOCATION:Walton Firs\, Walton Firs Activity Centre\, Convent Lane\, Cobham\, Surrey\, KT11 1HB
CATEGORIES:Beavers,Cubs,Scouts
END:VEVENT
BEGIN:VEVENT
DTSTART;TZID=UTC:20230513T080000
DTEND;TZID=UTC:20230513T170000
DTSTAMP:20260421T101917
CREATED:20230219T202725Z
LAST-MODIFIED:20230422T193633Z
UID:1128-1683964800-1683997200@13thwimbledon.org
SUMMARY:District Sports Day
DESCRIPTION:Beavers\, Cubs\, Scouts
URL:https://13thwimbledon.org/event/district-sports/
LOCATION:David Weir Centre\, Middleton Road\, Carshalton\, SM5 1SL
CATEGORIES:Beavers,Cubs,Scouts
END:VEVENT
BEGIN:VEVENT
DTSTART;TZID=UTC:20230423T015000
DTEND;TZID=UTC:20230423T160000
DTSTAMP:20260421T101917
CREATED:20230219T201425Z
LAST-MODIFIED:20230422T193330Z
UID:1120-1682214600-1682265600@13thwimbledon.org
SUMMARY:St George’s Day Parade
DESCRIPTION:Beavers\, Cubs\, Scouts & Explorers
URL:https://13thwimbledon.org/event/st-georges-day-parade-2/
LOCATION:Wimbledon village
CATEGORIES:Beavers,Cubs,Explorers,Scouts
END:VEVENT
BEGIN:VEVENT
DTSTART;TZID=UTC:20230305T140000
DTEND;TZID=UTC:20230305T164500
DTSTAMP:20260421T101917
CREATED:20230226T190415Z
LAST-MODIFIED:20230226T191030Z
UID:1157-1678024800-1678034700@13thwimbledon.org
SUMMARY:District Cubs Chess Competition
DESCRIPTION:19th Wimbledon HQ \n\n\n\n\n\nOpen to all Cub packs in the Wimbledon and Wandle District. Each team is to becomprised of four Cubs\, packs can enter up to three teams (labelled A\, B and C). \n\n\n\nThere will be four 20-minute rounds in the competition itself\, so each entrant will playfour games (two games either side of an interval). \n\n\n\n• Arrive for 14.00• 14.10 – 14.20 – Explanation of rules etc.• 14.25 – 14.45 – Round 1• 14.50 – 15.10 – Round 2• 15.10 – 15.30 – Break• 15.35 – 15.55 – Round 3• 16.00 – 16.20 – Round 4• 16.20 – 16.30 – Toilet break\, pack away• 16.30 – 16.45 – Results\, presentations and finish.
URL:https://13thwimbledon.org/event/district-cubs-chess-competition/
LOCATION:Surrey
CATEGORIES:Cubs
END:VEVENT
BEGIN:VEVENT
DTSTART;VALUE=DATE:20230204
DTEND;VALUE=DATE:20230205
DTSTAMP:20260421T101917
CREATED:20230117T202308Z
LAST-MODIFIED:20230117T202308Z
UID:1086-1675468800-1675555199@13thwimbledon.org
SUMMARY:Wobstacle
DESCRIPTION:Watery obstacle course!
URL:https://13thwimbledon.org/event/wobstacle-2/
LOCATION:Surrey
CATEGORIES:Cubs
END:VEVENT
BEGIN:VEVENT
DTSTART;VALUE=DATE:20230129
DTEND;VALUE=DATE:20230130
DTSTAMP:20260421T101917
CREATED:20230117T202132Z
LAST-MODIFIED:20230219T203041Z
UID:1084-1674950400-1675036799@13thwimbledon.org
SUMMARY:District badge day
DESCRIPTION:At 19th HQ
URL:https://13thwimbledon.org/event/district-badge-day/
LOCATION:Surrey
CATEGORIES:Cubs
END:VEVENT
BEGIN:VEVENT
DTSTART;VALUE=DATE:20220702
DTEND;VALUE=DATE:20220703
DTSTAMP:20260421T101917
CREATED:20220120T214526Z
LAST-MODIFIED:20220120T220511Z
UID:762-1656720000-1656806399@13thwimbledon.org
SUMMARY:Football competition
DESCRIPTION:The cub teams play each other in a tournament
URL:https://13thwimbledon.org/event/football-competition/
LOCATION:Surrey
CATEGORIES:Cubs
END:VEVENT
BEGIN:VEVENT
DTSTART;VALUE=DATE:20220624
DTEND;VALUE=DATE:20220627
DTSTAMP:20260421T101917
CREATED:20220203T201744Z
LAST-MODIFIED:20220203T201744Z
UID:802-1656028800-1656287999@13thwimbledon.org
SUMMARY:Group Camp followed by Group Family BBQ and AGM
DESCRIPTION:Walton Firs Campsite\, Cobham.  All scouts\, plus cubs and (hopefully!) some beavers! \nAGM at midday on Sunday
URL:https://13thwimbledon.org/event/group-camp-followed-by-group-family-bbq-and-agm/
LOCATION:Surrey
CATEGORIES:Beavers,Cubs,Scouts
END:VEVENT
BEGIN:VEVENT
DTSTART;VALUE=DATE:20220514
DTEND;VALUE=DATE:20220515
DTSTAMP:20260421T101917
CREATED:20220120T214431Z
LAST-MODIFIED:20220203T200646Z
UID:760-1652486400-1652572799@13thwimbledon.org
SUMMARY:District Sports Day
DESCRIPTION:A chance for the beavers\, cubs and scouts to represent 13th Wimbledon and win some events!
URL:https://13thwimbledon.org/event/district-sports-day/
LOCATION:Surrey
CATEGORIES:Beavers,Cubs,Group,Scouts
END:VEVENT
BEGIN:VEVENT
DTSTART;VALUE=DATE:20220220
DTEND;VALUE=DATE:20220221
DTSTAMP:20260421T101917
CREATED:20220120T214336Z
LAST-MODIFIED:20230226T190808Z
UID:758-1645315200-1645401599@13thwimbledon.org
SUMMARY:Chess competition
DESCRIPTION:Our cubs play off for a winner
URL:https://13thwimbledon.org/event/chess-competition/
LOCATION:Surrey
CATEGORIES:Cubs
END:VEVENT
BEGIN:VEVENT
DTSTART;VALUE=DATE:20220205
DTEND;VALUE=DATE:20220206
DTSTAMP:20260421T101917
CREATED:20220120T214155Z
LAST-MODIFIED:20220120T214214Z
UID:755-1644019200-1644105599@13thwimbledon.org
SUMMARY:Wobstacle
DESCRIPTION:The cubs tackle a watery obstacle course!
URL:https://13thwimbledon.org/event/wobstacle/
LOCATION:Surrey
CATEGORIES:Cubs
END:VEVENT
BEGIN:VEVENT
DTSTART;VALUE=DATE:20220130
DTEND;VALUE=DATE:20220131
DTSTAMP:20260421T101917
CREATED:20220120T205034Z
LAST-MODIFIED:20220120T214252Z
UID:753-1643500800-1643587199@13thwimbledon.org
SUMMARY:Badge day - Science Badge
DESCRIPTION:The cubs get their white coats and safety glasses out
URL:https://13thwimbledon.org/event/badge-day-science-badge/
LOCATION:Surrey
CATEGORIES:Cubs
END:VEVENT
END:VCALENDAR